BEGIN:VCALENDAR
VERSION:2.0
PRODID:-//The Palmdale Aerospace Academy - ECPv6.15.20//NONSGML v1.0//EN
CALSCALE:GREGORIAN
METHOD:PUBLISH
X-WR-CALNAME:The Palmdale Aerospace Academy
X-ORIGINAL-URL:https://www.tpaa.org
X-WR-CALDESC:Events for The Palmdale Aerospace Academy
REFRESH-INTERVAL;VALUE=DURATION:PT1H
X-Robots-Tag:noindex
X-PUBLISHED-TTL:PT1H
BEGIN:VTIMEZONE
TZID:America/Tijuana
BEGIN:DAYLIGHT
TZOFFSETFROM:-0800
TZOFFSETTO:-0700
TZNAME:PDT
DTSTART:20240310T100000
END:DAYLIGHT
BEGIN:STANDARD
TZOFFSETFROM:-0700
TZOFFSETTO:-0800
TZNAME:PST
DTSTART:20241103T090000
END:STANDARD
BEGIN:DAYLIGHT
TZOFFSETFROM:-0800
TZOFFSETTO:-0700
TZNAME:PDT
DTSTART:20250309T100000
END:DAYLIGHT
BEGIN:STANDARD
TZOFFSETFROM:-0700
TZOFFSETTO:-0800
TZNAME:PST
DTSTART:20251102T090000
END:STANDARD
BEGIN:DAYLIGHT
TZOFFSETFROM:-0800
TZOFFSETTO:-0700
TZNAME:PDT
DTSTART:20260308T100000
END:DAYLIGHT
BEGIN:STANDARD
TZOFFSETFROM:-0700
TZOFFSETTO:-0800
TZNAME:PST
DTSTART:20261101T090000
END:STANDARD
END:VTIMEZONE
BEGIN:VEVENT
DTSTART;TZID=America/Tijuana:20250804T120000
DTEND;TZID=America/Tijuana:20250804T160000
DTSTAMP:20260425T040411
CREATED:20250801T204155Z
LAST-MODIFIED:20250821T163742Z
UID:10000996-1754308800-1754323200@www.tpaa.org
SUMMARY:Robotics Leadership Retreat
DESCRIPTION:Team building exercises and leadership course for the new Robotics leadership team to prepare for their new role on the team for the 25-26 season. \nPOC: Blanca Sandoval
URL:https://www.tpaa.org/event/robotics-leadership-retreat-2/
LOCATION:T-201
CATEGORIES:High School,Middle School
END:VEVENT
BEGIN:VEVENT
DTSTART;TZID=America/Tijuana:20250804T100000
DTEND;TZID=America/Tijuana:20250804T173000
DTSTAMP:20260425T040411
CREATED:20250801T204155Z
LAST-MODIFIED:20250821T171044Z
UID:10000995-1754301600-1754328600@www.tpaa.org
SUMMARY:WEB Training (6th Grade Mentorship)
DESCRIPTION:POC: Lourdes Mendez
URL:https://www.tpaa.org/event/web-training-6th-grade-mentorship-2/
LOCATION:West Gym
CATEGORIES:Middle School
END:VEVENT
BEGIN:VEVENT
DTSTART;TZID=America/Tijuana:20250804T080000
DTEND;TZID=America/Tijuana:20250804T153000
DTSTAMP:20260425T040411
CREATED:20250801T204154Z
LAST-MODIFIED:20250821T163627Z
UID:10000994-1754294400-1754321400@www.tpaa.org
SUMMARY:Secondary Picture Day
DESCRIPTION:Lifetouch Photography will be here for picture day for the Secondary site. Students will have their picture taken so they can have ID’s ready for the new school year. \nPOC: Melanie McClaren / Carolina Escobedo
URL:https://www.tpaa.org/event/secondary-picture-day-2/
LOCATION:East Gym
CATEGORIES:High School,Middle School
END:VEVENT
BEGIN:VEVENT
DTSTART;TZID=America/Tijuana:20250804T080000
DTEND;TZID=America/Tijuana:20250804T143000
DTSTAMP:20260425T040411
CREATED:20250801T204155Z
LAST-MODIFIED:20250821T171023Z
UID:10000987-1754294400-1754317800@www.tpaa.org
SUMMARY:Link Crew Summer Training
DESCRIPTION:POC: Christy Tak / Jessica Martinez
URL:https://www.tpaa.org/event/link-crew-summer-training-3/
LOCATION:Hangar
CATEGORIES:High School
END:VEVENT
BEGIN:VEVENT
DTSTART;TZID=America/Tijuana:20250801T080000
DTEND;TZID=America/Tijuana:20250801T143000
DTSTAMP:20260425T040411
CREATED:20250801T204154Z
LAST-MODIFIED:20250821T171343Z
UID:10000993-1754035200-1754058600@www.tpaa.org
SUMMARY:Link Crew Summer Training
DESCRIPTION:POC: Christy Tak / Jessica Martinez
URL:https://www.tpaa.org/event/link-crew-summer-training-2/
LOCATION:Hangar
CATEGORIES:High School
END:VEVENT
END:VCALENDAR